BEGIN:VCALENDAR
VERSION:2.0
PRODID:-//West County Wastewater - ECPv6.15.19//NONSGML v1.0//EN
CALSCALE:GREGORIAN
METHOD:PUBLISH
X-WR-CALNAME:West County Wastewater
X-ORIGINAL-URL:https://wcwd.org
X-WR-CALDESC:Events for West County Wastewater
REFRESH-INTERVAL;VALUE=DURATION:PT1H
X-Robots-Tag:noindex
X-PUBLISHED-TTL:PT1H
BEGIN:VTIMEZONE
TZID:UTC
BEGIN:STANDARD
TZOFFSETFROM:+0000
TZOFFSETTO:+0000
TZNAME:UTC
DTSTART:20200101T000000
END:STANDARD
END:VTIMEZONE
BEGIN:VEVENT
DTSTART;TZID=UTC:20221215T090000
DTEND;TZID=UTC:20221215T090000
DTSTAMP:20260424T174119
CREATED:20220617T031752Z
LAST-MODIFIED:20220617T031752Z
UID:2123-1671094800-1671094800@wcwd.org
SUMMARY:West County Agency Meeting
DESCRIPTION:
URL:https://wcwd.org/event/west-county-agency-meeting-5/
LOCATION:Virtual Event
CATEGORIES:West County Agency Meeting
END:VEVENT
BEGIN:VEVENT
DTSTART;TZID=UTC:20220915T090000
DTEND;TZID=UTC:20220915T090000
DTSTAMP:20260424T174119
CREATED:20220617T024239Z
LAST-MODIFIED:20220617T024239Z
UID:2102-1663232400-1663232400@wcwd.org
SUMMARY:West County Agency Meeting
DESCRIPTION:
URL:https://wcwd.org/event/west-county-agency-meeting-4/
LOCATION:Virtual Event
CATEGORIES:West County Agency Meeting
END:VEVENT
BEGIN:VEVENT
DTSTART;TZID=UTC:20210916T090000
DTEND;TZID=UTC:20210916T110000
DTSTAMP:20260424T174119
CREATED:20210913T182042Z
LAST-MODIFIED:20210913T182112Z
UID:1254-1631782800-1631790000@wcwd.org
SUMMARY:WCW - Regular Session - CANCELLED
DESCRIPTION:
URL:http://wcwdca.iqm2.com/Citizens/Detail_Meeting.aspx?ID=1329#new_tab
LOCATION:Virtual Event
CATEGORIES:West County Agency Meeting
END:VEVENT
BEGIN:VEVENT
DTSTART;TZID=UTC:20210617T090000
DTEND;TZID=UTC:20210617T100000
DTSTAMP:20260424T174119
CREATED:20210406T161224Z
LAST-MODIFIED:20210406T161224Z
UID:1080-1623920400-1623924000@wcwd.org
SUMMARY:West County Agency Meeting
DESCRIPTION:
URL:http://wcwdca.iqm2.com/Citizens/Detail_Meeting.aspx?ID=1287#new_tab
LOCATION:Virtual Event
CATEGORIES:West County Agency Meeting
END:VEVENT
BEGIN:VEVENT
DTSTART;TZID=UTC:20210520T090000
DTEND;TZID=UTC:20210520T100000
DTSTAMP:20260424T174119
CREATED:20210406T151105Z
LAST-MODIFIED:20210406T151105Z
UID:1074-1621501200-1621504800@wcwd.org
SUMMARY:West County Agency Meeting
DESCRIPTION:
URL:http://wcwdca.iqm2.com/Citizens/Detail_Meeting.aspx?ID=1324#new_tab
LOCATION:Virtual Event
CATEGORIES:West County Agency Meeting
END:VEVENT
END:VCALENDAR